BEGIN:VCALENDAR
VERSION:2.0
PRODID:-//FTPO Community - ECPv6.15.20//NONSGML v1.0//EN
CALSCALE:GREGORIAN
METHOD:PUBLISH
X-WR-CALNAME:FTPO Community
X-ORIGINAL-URL:https://forthepeopleoutreach.com
X-WR-CALDESC:Events for FTPO Community
REFRESH-INTERVAL;VALUE=DURATION:PT1H
X-Robots-Tag:noindex
X-PUBLISHED-TTL:PT1H
BEGIN:VTIMEZONE
TZID:UTC
BEGIN:STANDARD
TZOFFSETFROM:+0000
TZOFFSETTO:+0000
TZNAME:UTC
DTSTART:20250101T000000
END:STANDARD
END:VTIMEZONE
BEGIN:VEVENT
DTSTART;TZID=UTC:20260424T180000
DTEND;TZID=UTC:20260424T200000
DTSTAMP:20260424T030357
CREATED:20260423T174122Z
LAST-MODIFIED:20260423T183753Z
UID:1895-1777053600-1777060800@forthepeopleoutreach.com
SUMMARY:From Surviving to Thriving: A Journey of Self & Strength
DESCRIPTION:Topic: “From Surviving to Thriving: A Journey of Self & Strength”\nTime: Apr 24\, 2026 06:00 PM Eastern Time (US and Canada)\nJoin Zoom Meeting \nMeeting ID: 837 2588 0357\nPasscode: 089986 \n—\nOne tap mobile\n+13052241968\,\,83725880357#\,\,\,\,*089986# US\n+13092053325\,\,83725880357#\,\,\,\,*089986# US\n—\nJoin by SIP\n• 83725880357@zoomcrc.com \nJoin instructions\nhttps://us06web.zoom.us/meetings/83725880357/invitations?signature=kkTdv02pKuFGGGA5wh0bYpTPuJ1AnhG272Kb_z-Y7ko
URL:https://forthepeopleoutreach.com/event/from-surviving-to-thriving-a-journey-of-self-strength/
ATTACH;FMTTYPE=image/jpeg:https://forthepeopleoutreach.com/wp-content/uploads/2026/04/3b.jpg
END:VEVENT
END:VCALENDAR