BEGIN:VCALENDAR
VERSION:2.0
PRODID:-//FTPO Community - ECPv6.15.20//NONSGML v1.0//EN
CALSCALE:GREGORIAN
METHOD:PUBLISH
X-WR-CALNAME:FTPO Community
X-ORIGINAL-URL:https://forthepeopleoutreach.com
X-WR-CALDESC:Events for FTPO Community
REFRESH-INTERVAL;VALUE=DURATION:PT1H
X-Robots-Tag:noindex
X-PUBLISHED-TTL:PT1H
BEGIN:VTIMEZONE
TZID:UTC
BEGIN:STANDARD
TZOFFSETFROM:+0000
TZOFFSETTO:+0000
TZNAME:UTC
DTSTART:20240101T000000
END:STANDARD
END:VTIMEZONE
BEGIN:VEVENT
DTSTART;TZID=UTC:20251016T190000
DTEND;TZID=UTC:20251016T200000
DTSTAMP:20260424T160057
CREATED:20251012T030023Z
LAST-MODIFIED:20251012T215234Z
UID:1393-1760641200-1760644800@forthepeopleoutreach.com
SUMMARY:Women's Group
DESCRIPTION:Meeting ID\n869 9167 3628 \nTime\n7PM
URL:https://forthepeopleoutreach.com/event/womens-group/
ATTACH;FMTTYPE=image/jpeg:https://forthepeopleoutreach.com/wp-content/uploads/2025/10/Womens-Group-10-8.jpg
END:VEVENT
END:VCALENDAR